BEGIN:VCALENDAR
PRODID:-//kirchenweb.ch gmbh//veranstaltungsausgabe v2.0//DE
VERSION:2.0
METHOD:PUBLISH
BEGIN:VEVENT
DTSTART:20240321T190000Z
DTEND:20240321T200000Z
LOCATION:Bévilard\, Salle de Paroisse\, Les Côtes 1\, 2735 Bévilard
TRANSP:OPAQUE
SEQUENCE:0
UID:10570-veranstaltung@par8.ch
DTSTAMP:20231215T094310Z
DESCRIPTION:Le choeur Allegretto répète tous les jeudis à 20h à la
  cure de Bévilard. Toute personne est bienvenue\, de quelle confession
  que ce soit\, pour un essai ou plus !\n\nRenseignement et contact :
  Jean-Claude Schnegg (jc.schnegg@gmail.com)\n
 \nhttps://choeurallegretto.ch/\n\nKontakt: isabelle.girod@par8.ch\n
 \nWeitere Infos: https://www.par8.ch/veranstaltung/10570
SUMMARY:Répétition du choeur Allegretto
PRIORITY:5
X-MICROSOFT-CDO-IMPORTANCE:1
CLASS:PUBLIC
END:VEVENT
END:VCALENDAR
