BEGIN:VCALENDAR
PRODID:-//kirchenweb.ch gmbh//veranstaltungsausgabe v2.0//DE
VERSION:2.0
METHOD:PUBLISH
BEGIN:VEVENT
DTSTART:20240320T173000Z
DTEND:20240320T200000Z
LOCATION:Bévilard\, Salle de Paroisse\, Les Côtes 1\, 2735 Bévilard
TRANSP:OPAQUE
SEQUENCE:0
UID:10437-veranstaltung@par8.ch
DTSTAMP:20231124T075148Z
DESCRIPTION:A travers un parcours de 5 rencontres\, aborder avec le
  soutien d'un groupe\, dans le respect et l'écoute\, les étapes du deuil
  afin d'avancer vers un nouvel avenir.\nL'animation sera assurée par
  Sanda Singh\, diacre et Anne-Marie Richard\, accompagnatrice de personnes
  endeuillées.\n\n\n\nRenseignements et inscriptions : Sandra Singh\, Rue
  du 16-Mars 18\, 2732 Reconvilier\, sandra.singh@par8.ch\, 032 483 16 20\n
 \n\nKontakt: isabelle.girod@par8.ch\n\nWeitere Infos:
  https://www.par8.ch/veranstaltung/10437
SUMMARY:GAPE - Groupe d'accompagnement pour personnes endeuillées
PRIORITY:5
X-MICROSOFT-CDO-IMPORTANCE:1
CLASS:PUBLIC
END:VEVENT
END:VCALENDAR
