BEGIN:VCALENDAR
PRODID:-//kirchenweb.ch gmbh//veranstaltungsausgabe v2.0//DE
VERSION:2.0
METHOD:PUBLISH
BEGIN:VEVENT
DTSTART:20240320T140000Z
DTEND:20240320T160000Z
LOCATION:Bévilard\, Le Carillon\, Grand Rue\, 2735 Malleray
TRANSP:OPAQUE
SEQUENCE:0
UID:10390-veranstaltung@par8.ch
DTSTAMP:20231115T100232Z
DESCRIPTION:Rencontre café-contact au Carillon\n\nKontakt:
  isabelle.girod@par8.ch\n\nWeitere Infos:
  https://www.par8.ch/veranstaltung/10390
SUMMARY:Café-contact
PRIORITY:5
X-MICROSOFT-CDO-IMPORTANCE:1
CLASS:PUBLIC
END:VEVENT
END:VCALENDAR
