BEGIN:VCALENDAR
PRODID:-//kirchenweb.ch gmbh//veranstaltungsausgabe v2.0//DE
VERSION:2.0
METHOD:PUBLISH
BEGIN:VEVENT
DTSTART:20240310T090000Z
DTEND:20240310T100000Z
LOCATION:Moron\, \,
TRANSP:OPAQUE
SEQUENCE:0
UID:10322-veranstaltung@par8.ch
DTSTAMP:20231109T094834Z
DESCRIPTION:Kontakt: Jean Lesort Louck Talom\n\nWeitere Infos:
  https://www.par8.ch/veranstaltung/10322
SUMMARY:Culte avec les Mennonites à Moron
PRIORITY:5
X-MICROSOFT-CDO-IMPORTANCE:1
CLASS:PUBLIC
END:VEVENT
END:VCALENDAR
