BEGIN:VCALENDAR
PRODID:-//kirchenweb.ch gmbh//veranstaltungsausgabe v2.0//DE
VERSION:2.0
METHOD:PUBLISH
BEGIN:VEVENT
DTSTART:20240320T133000Z
DTEND:20240320T153000Z
LOCATION:Maison de paroisse\, \, 2736 Sorvilier
TRANSP:OPAQUE
SEQUENCE:0
UID:10302-veranstaltung@par8.ch
DTSTAMP:20231106T161050Z
DESCRIPTION:Kontakt: sandra.schneeberger@par8.ch\n\nWeitere Infos:
  https://www.par8.ch/veranstaltung/10302
SUMMARY:Rencontre des aînés de Sorvilier
PRIORITY:5
X-MICROSOFT-CDO-IMPORTANCE:1
CLASS:PUBLIC
END:VEVENT
END:VCALENDAR
