BEGIN:VCALENDAR
PRODID:-//kirchenweb.ch gmbh//veranstaltungsausgabe v2.0//DE
VERSION:2.0
METHOD:PUBLISH
BEGIN:VEVENT
DTSTART:20240318T133000Z
DTEND:20240318T153000Z
LOCATION:Court\, Salle de Paroisse\, La Cure 2\, 2738 Court
TRANSP:OPAQUE
SEQUENCE:0
UID:10295-veranstaltung@par8.ch
DTSTAMP:20231106T160029Z
DESCRIPTION:Kontakt: sandra.schneeberger@par8.ch\n\nWeitere Infos:
  https://www.par8.ch/veranstaltung/10295
SUMMARY:Court\, programme d'animation - Cure
PRIORITY:5
X-MICROSOFT-CDO-IMPORTANCE:1
CLASS:PUBLIC
END:VEVENT
END:VCALENDAR
