BEGIN:VCALENDAR
PRODID:-//kirchenweb.ch gmbh//veranstaltungsausgabe v2.0//DE
VERSION:2.0
METHOD:PUBLISH
BEGIN:VEVENT
DTSTART:20240309T170000Z
DTEND:20240309T183000Z
LOCATION:Moutier\, Le Foyer\, Rue du Clos 3\, 2740 Moutier
TRANSP:OPAQUE
SEQUENCE:0
UID:10267-veranstaltung@par8.ch
DTSTAMP:20240215T130439Z
DESCRIPTION:Concert en faveur de l'AJAFEC\nPour la recherche contre le
  cancer de l'enfant\n\nKontakt: Pour L’OFM\nIsabelle Voyame\nSemailles 6
 \n2800 Delémont \n\n\nWeitere Infos:
  https://www.par8.ch/veranstaltung/10267
SUMMARY:Moutier - Concert Orchestre du Foyer
PRIORITY:5
X-MICROSOFT-CDO-IMPORTANCE:1
CLASS:PUBLIC
END:VEVENT
END:VCALENDAR
