BEGIN:VCALENDAR
PRODID:-//kirchenweb.ch gmbh//veranstaltungsausgabe v2.0//DE
VERSION:2.0
METHOD:PUBLISH
BEGIN:VEVENT
DTSTART:20240326T183000Z
DTEND:20240326T203000Z
LOCATION:Bévilard\, Salle de Paroisse\, Les Côtes 1\, 2735 Bévilard
TRANSP:OPAQUE
SEQUENCE:0
UID:10242-veranstaltung@par8.ch
DTSTAMP:20240318T070948Z
DESCRIPTION:Les silences\, Luca Brunoni\n\nLe choix du groupe de Delémont
  à l’intention de tous les groupes de lecture de la région a été
  motivé par la manifestation intitulée « Symbole commémoratif" dans le
  but de rappeler le destin des enfants placés. «…Se taire\, ne jamais
  se mêler des affaires des autres\, voilà la règle qui prime dans ce
  village au cœur des montagnes\, et permet à chacun de cultiver
  consciencieusement son lot de rancœurs et de préjugés… »\n\nSi ce
  thème vous interpelle ou si vous souhaitez continuer la réflexion
  entamée l’été passé vous êtes bienvenu-e. Pour rappel\, le livre
  se lit individuellement et nous nous retrouvons pour échanger et
  poursuivre la réflexion. 1 rencontre par mois en début d’année à la
  maison de paroisse à Bévilard\, des mardis 19h30-21h30 et une rencontre
  conclusive avec tous les groupes de la région avec l’auteur en mai.\n
 \nPersonne de contact : Claudine Bassin 079 506 93 44 ou
  clbasssin@bluewin.ch\n\n\nKontakt: isabelle.girod@par8.ch\n\nWeitere
  Infos: https://www.par8.ch/veranstaltung/10242
SUMMARY:Bévilard - groupe lecture
PRIORITY:5
X-MICROSOFT-CDO-IMPORTANCE:1
CLASS:PUBLIC
END:VEVENT
END:VCALENDAR
