BEGIN:VCALENDAR
PRODID:-//kirchenweb.ch gmbh//veranstaltungsausgabe v2.0//DE
VERSION:2.0
METHOD:PUBLISH
BEGIN:VEVENT
DTSTART:20240317T150000Z
DTEND:20240317T180000Z
LOCATION:Moutier\, Le Foyer\, Rue du Clos 3\, 2740 Moutier
TRANSP:OPAQUE
SEQUENCE:0
UID:10139-veranstaltung@par8.ch
DTSTAMP:20230919T052442Z
DESCRIPTION:Kontakt: Céline Ryf\n\nWeitere Infos:
  https://www.par8.ch/veranstaltung/10139
SUMMARY:Représentation Troupe du Parpaillot
PRIORITY:5
X-MICROSOFT-CDO-IMPORTANCE:1
CLASS:PUBLIC
END:VEVENT
END:VCALENDAR
