BEGIN:VCALENDAR
PRODID:-//kirchenweb.ch gmbh//veranstaltungsausgabe v2.0//DE
VERSION:2.0
METHOD:PUBLISH
BEGIN:VEVENT
DTSTART:20240316T183000Z
DTEND:20240316T213000Z
LOCATION:Moutier\, Le Foyer\, Rue du Clos 3\, 2740 Moutier
TRANSP:OPAQUE
SEQUENCE:0
UID:10138-veranstaltung@par8.ch
DTSTAMP:20230919T052326Z
DESCRIPTION:Kontakt: Céline Ryf\n\nWeitere Infos:
  https://www.par8.ch/veranstaltung/10138
SUMMARY:Représentation Troupe du Parpaillot
PRIORITY:5
X-MICROSOFT-CDO-IMPORTANCE:1
CLASS:PUBLIC
END:VEVENT
END:VCALENDAR
