BEGIN:VCALENDAR
PRODID:-//kirchenweb.ch gmbh//veranstaltungsausgabe v2.0//DE
VERSION:2.0
METHOD:PUBLISH
BEGIN:VEVENT
DTSTART:20240319T190000Z
DTEND:20240319T200000Z
LOCATION:Cinématographe\, Tramelan\, Rue du Cinéma 1\, 2720 Tramelan
TRANSP:OPAQUE
SEQUENCE:0
UID:10104-veranstaltung@par8.ch
DTSTAMP:20230924T060123Z
DESCRIPTION:Drame – de Carmen Jaquier – 92 min. VF\n\nÉté 1900\,
  dans une vallée du sud de la Suisse. Elisabeth a dix-sept ans et
  s’apprête à faire ses vœux quand le décès brutal de sa sœur
  aînée l’oblige à retrouver sa famille et la vie de labeur qu’elle
  avait quitté cinq ans plus tôt pour entrer au couvent. Elisabeth
  n’est plus une enfant et les mystères entourant la mort de sa sœur
  vont la pousser à lutter pour son droit à l’expérience.\n\nDieu et
  le désir féminin dans le Valais de 1900. Un film puissant\,
  visuellement majestueux et précis\, empreint d’un profond mysticisme.
 \n\nFoudre est un premier film puissant\, visuellement majestueux et
  précis\, qui révèle une réalisatrice \nrésolue à imposer son point
  de vue. \n\nKontakt: Françoise Surdez\n\nWeitere Infos:
  https://www.par8.ch/veranstaltung/10104
SUMMARY:Ciné-spirit - Foudre
PRIORITY:5
X-MICROSOFT-CDO-IMPORTANCE:1
CLASS:PUBLIC
END:VEVENT
END:VCALENDAR
